BEGIN:VCALENDAR
VERSION:2.0
PRODID:EVENTFROG//EVENT//ICAL
BEGIN:VEVENT
UID:20260419T130009Z-7437535134809639972@eventfrog.de
DTSTAMP:20260419T130009Z
DTSTART:20260508T180000Z
SUMMARY:The Wrapping Papers
DESCRIPTION:The Wrapping Papers spielen eigenständige Neuinterpretationen klassischer Rockmusik von den 1950er bis 1970er Jahren.\n\nhttps://eventfrog.de/de/p/konzerte/pop-rock/the-wrapping-papers-7437535134809639972.html
LOCATION:KUFA Kultur für Alle
GEO:49.899227;10.921699
URL:https://eventfrog.de/de/p/konzerte/pop-rock/the-wrapping-papers-7437535134809639972.html
END:VEVENT
END:VCALENDAR