BEGIN:VCALENDAR
VERSION:2.0
PRODID:EVENTFROG//EVENT//ICAL
BEGIN:VEVENT
UID:20260421T151612Z-7437635557306449072@eventfrog.de
DTSTAMP:20260421T151612Z
DTSTART:20260502T153000Z
SUMMARY:Eröffnungsfeier des 38. Bodenseefestival
DESCRIPTION:Mit Festrede von Verena Bentele.\n\nhttps://eventfrog.de/de/p/diverses/eroeffnungsfeier-des-38-bodenseefestival-7437635557306449072.html
LOCATION:Graf-Zeppelin-Haus
GEO:47.651060;9.468775
URL:https://eventfrog.de/de/p/diverses/eroeffnungsfeier-des-38-bodenseefestival-7437635557306449072.html
END:VEVENT
END:VCALENDAR