BEGIN:VCALENDAR
VERSION:2.0
PRODID:EVENTFROG//EVENT//ICAL
BEGIN:VEVENT
UID:20260421T151638Z-7437635559579761841@eventfrog.de
DTSTAMP:20260421T151638Z
DTSTART:20260502T173000Z
SUMMARY:Nicolas Altstaedt & Freiburger Barockorchester
DESCRIPTION:Eröffnungskonzert Bodenseefestival.\n\nhttps://eventfrog.de/de/p/konzerte/nicolas-altstaedt-freiburger-barockorchester-7437635559579761841.html
LOCATION:Graf-Zeppelin-Haus
GEO:47.651060;9.468775
URL:https://eventfrog.de/de/p/konzerte/nicolas-altstaedt-freiburger-barockorchester-7437635559579761841.html
END:VEVENT
END:VCALENDAR