BEGIN:VCALENDAR
VERSION:2.0
PRODID:EVENTFROG//EVENT//ICAL
BEGIN:VEVENT
UID:20260421T151640Z-7437635561844686002@eventfrog.de
DTSTAMP:20260421T151640Z
DTSTART:20260509T173000Z
SUMMARY:Triple Bill
DESCRIPTION:New English Ballet Theatre.\n\nhttps://eventfrog.de/de/p/theater-buehne/triple-bill-7437635561844686002.html
LOCATION:Graf-Zeppelin-Haus
GEO:47.651060;9.468775
URL:https://eventfrog.de/de/p/theater-buehne/triple-bill-7437635561844686002.html
END:VEVENT
END:VCALENDAR