BEGIN:VCALENDAR
VERSION:2.0
PRODID:EVENTFROG//EVENT//ICAL
BEGIN:VEVENT
UID:20260421T151711Z-7437635566718467278@eventfrog.de
DTSTAMP:20260421T151711Z
DTSTART:20260516T173000Z
SUMMARY:Familie Flöz – Feste
DESCRIPTION:Ein Märchen ohne Worte für Erwachsene.\n\nhttps://eventfrog.de/de/p/theater-buehne/familie-floez-feste-7437635566718467278.html
LOCATION:Graf-Zeppelin-Haus
GEO:47.651060;9.468775
URL:https://eventfrog.de/de/p/theater-buehne/familie-floez-feste-7437635566718467278.html
END:VEVENT
END:VCALENDAR