BEGIN:VCALENDAR
VERSION:2.0
PRODID:EVENTFROG//EVENT//ICAL
BEGIN:VEVENT
UID:20260421T082906Z-7437800791400791704@eventfrog.de
DTSTAMP:20260421T082906Z
DTSTART:20260424T180000Z
DTEND:20260424T203000Z
SUMMARY:Michael Altinger
DESCRIPTION:"Die letzte Tasse Testosteron"\n\nhttps://eventfrog.de/de/p/theater-buehne/comedy-kabarett/michael-altinger-7437800791400791704.html
LOCATION:Klosterhof Oberalteich
GEO:48.917641;12.667446
URL:https://eventfrog.de/de/p/theater-buehne/comedy-kabarett/michael-altinger-7437800791400791704.html
END:VEVENT
END:VCALENDAR