BEGIN:VCALENDAR
VERSION:2.0
PRODID:EVENTFROG//EVENT//ICAL
BEGIN:VEVENT
UID:20260422T114244Z-7437810199191157424@eventfrog.de
DTSTAMP:20260422T114244Z
DTSTART:20260825T173000Z
DTEND:20260825T193000Z
SUMMARY:Les Passants – Stimmen der Nacht
DESCRIPTION:Les Passants bieten einen poetischen Abend mit Chanson und Jazz unter freiem Himmel, voller Sehnsucht und Geschichten Europas.\n\nhttps://eventfrog.de/de/p/konzerte/weitere-musikrichtungen/les-passants-stimmen-der-nacht-7437810199191157424.html
LOCATION:Luftschloss Tempelhofer Feld
GEO:52.476672;13.386209
URL:https://eventfrog.de/de/p/konzerte/weitere-musikrichtungen/les-passants-stimmen-der-nacht-7437810199191157424.html
END:VEVENT
END:VCALENDAR