BEGIN:VCALENDAR
VERSION:2.0
PRODID:EVENTFROG//EVENT//ICAL
BEGIN:VEVENT
UID:20260424T084907Z-7437826217691096973@eventfrog.de
DTSTAMP:20260424T084907Z
DTSTART:20261028T133000Z
DTEND:20261028T152000Z
SUMMARY:WOW! - Professor Bummbastic
DESCRIPTION:«WOW!» von Profesora und Professor Bummbastic ist eine mitreissende Wissenschaftsshow für Familien ab 5 Jahren mit spannenden Experimenten.\n\nhttps://eventfrog.de/de/p/kinderveranstaltungen/familienveranstaltungen/wow-professor-bummbastic-7437826217691096973.html
LOCATION:Burgsaal
GEO:46.759923;7.631808
URL:https://eventfrog.de/de/p/kinderveranstaltungen/familienveranstaltungen/wow-professor-bummbastic-7437826217691096973.html
END:VEVENT
END:VCALENDAR