BEGIN:VCALENDAR
VERSION:2.0
PRODID:EVENTFROG//EVENT//ICAL
BEGIN:VEVENT
UID:20260420T051118Z-7438589091560561948@eventfrog.de
DTSTAMP:20260420T051118Z
DTSTART:20261108T140000Z
DTEND:20261108T163000Z
SUMMARY:Carlos Martinez - ZUGABE! Pantomime
DESCRIPTION:Carlos Martínez präsentiert seine Abschiedsshow. Eine Inszenierung die Poesie, Emotionen und Humor vereint und die Essenz einer Kunst bewahrt, die über Worte hinausgeht.\n\nhttps://eventfrog.de/de/p/theater-buehne/pantomime/carlos-martinez-zugabe-pantomime-7438589091560561948.html
LOCATION:Kleintheater Somehuus
GEO:47.172200;8.109910
URL:https://eventfrog.de/de/p/theater-buehne/pantomime/carlos-martinez-zugabe-pantomime-7438589091560561948.html
END:VEVENT
END:VCALENDAR