BEGIN:VCALENDAR
VERSION:2.0
PRODID:EVENTFROG//EVENT//ICAL
BEGIN:VEVENT
UID:20260425T012616Z-7438718710745934875@eventfrog.de
DTSTAMP:20260425T012616Z
DTSTART:20260425T180000Z
DTEND:20260426T010000Z
SUMMARY:30+ Party in der BMW ahg Pforzheim am 25.04.26
DESCRIPTION:Die letzte Ü30 in der BMW ahg! Am Samstag, den 25. April, feiern wir gemeinsam den Abschied der 30+ Party in ihrer beliebtesten Location in Pforzheim!\n\nhttps://eventfrog.de/de/p/partys/disco/30-party-in-der-bmw-ahg-pforzheim-am-25-04-26-7438718710745934875.html
LOCATION:BMW ahg Pforzheim
GEO:48.902130;8.659304
URL:https://eventfrog.de/de/p/partys/disco/30-party-in-der-bmw-ahg-pforzheim-am-25-04-26-7438718710745934875.html
END:VEVENT
END:VCALENDAR