BEGIN:VCALENDAR
VERSION:2.0
PRODID:EVENTFROG//EVENT//ICAL
BEGIN:VEVENT
UID:20260423T233546Z-7438722042285822852@eventfrog.de
DTSTAMP:20260423T233546Z
DTSTART:20260424T180000Z
SUMMARY:Bluegrass Cash & Kikki Géron
DESCRIPTION:Johnny Cash Tribute im Bluegrass Stil.\n\nhttps://eventfrog.de/de/p/konzerte/bluegrass-cash-kikki-geron-7438722042285822852.html
LOCATION:Zehntscheuer Ravensburg
GEO:47.784464;9.612142
URL:https://eventfrog.de/de/p/konzerte/bluegrass-cash-kikki-geron-7438722042285822852.html
END:VEVENT
END:VCALENDAR