BEGIN:VCALENDAR
VERSION:2.0
PRODID:EVENTFROG//EVENT//ICAL
BEGIN:VEVENT
UID:20260419T221050Z-7438722846455541558@eventfrog.de
DTSTAMP:20260419T221050Z
DTSTART:20260422T173000Z
SUMMARY:Film – 2001: A Space Odyssey
DESCRIPTION:Stanley Kubricks Weltraumepos.\n\nhttps://eventfrog.de/de/p/freizeit-ausfluege/film-2001-a-space-odyssey-7438722846455541558.html
LOCATION:Parktheater
GEO:47.548512;9.687997
URL:https://eventfrog.de/de/p/freizeit-ausfluege/film-2001-a-space-odyssey-7438722846455541558.html
END:VEVENT
END:VCALENDAR