BEGIN:VCALENDAR
VERSION:2.0
PRODID:EVENTFROG//EVENT//ICAL
BEGIN:VEVENT
UID:20260421T235215Z-7439257218141175080@eventfrog.de
DTSTAMP:20260421T235215Z
DTSTART:20270305T090000Z
DTEND:20270305T160000Z
SUMMARY:21. Dortmunder Wundforum
DESCRIPTION:Jährliches Dortmunder Wundforum bietet Plattform für Austausch und Wissensupdate zur Betreuung von Menschen mit chronischen Wunden und professioneller Versorgung.\n\nhttps://eventfrog.de/de/p/fuehrungen-vortraege/symposium/21-dortmunder-wundforum-7439257218141175080.html
LOCATION:Hörder Burgplatz
GEO:51.491028;7.504790
URL:https://eventfrog.de/de/p/fuehrungen-vortraege/symposium/21-dortmunder-wundforum-7439257218141175080.html
END:VEVENT
END:VCALENDAR