BEGIN:VCALENDAR
VERSION:2.0
PRODID:EVENTFROG//EVENT//ICAL
BEGIN:VEVENT
UID:20260420T012426Z-7439425515981646353@eventfrog.de
DTSTAMP:20260420T012426Z
DTSTART:20260423T160000Z
DTEND:20260423T170000Z
SUMMARY:So kommt Dein Stoffwechsel in Schwung
DESCRIPTION:Eröffnung der Uferlichter in Bad Neuenahr am 5. Dezember im Kurpark: Treffe neue Leute, genieße Glühwein und besondere Atmosphäre. Für Community-Mitglieder, und solche, die es werden wollen.\n\nhttps://eventfrog.de/de/p/fuehrungen-vortraege/vortrag/so-kommt-dein-stoffwechsel-in-schwung-7439425515981646353.html
LOCATION:Online-Event per Google Meet
URL:https://eventfrog.de/de/p/fuehrungen-vortraege/vortrag/so-kommt-dein-stoffwechsel-in-schwung-7439425515981646353.html
END:VEVENT
END:VCALENDAR