BEGIN:VCALENDAR
VERSION:2.0
PRODID:EVENTFROG//EVENT//ICAL
BEGIN:VEVENT
UID:20260419T221048Z-7439642161660860280@eventfrog.de
DTSTAMP:20260419T221048Z
DTSTART:20260508T170000Z
DTEND:20260508T190000Z
SUMMARY:Burgenklassik Eröffnungskonzert
DESCRIPTION:Eröffnungskonzert der Burgenklassik-Reihe der Villa Musica \n\nhttps://eventfrog.de/de/p/klassik-opern/klassik/burgenklassik-eroeffnungskonzert-7439642161660860280.html
LOCATION:Schloss Engers
GEO:50.423431;7.543962
URL:https://eventfrog.de/de/p/klassik-opern/klassik/burgenklassik-eroeffnungskonzert-7439642161660860280.html
END:VEVENT
END:VCALENDAR