BEGIN:VCALENDAR
VERSION:2.0
PRODID:EVENTFROG//EVENT//ICAL
BEGIN:VEVENT
UID:20260424T094158Z-7439978226384899911@eventfrog.de
DTSTAMP:20260424T094158Z
DTSTART:20260520T170000Z
DTEND:20260520T174500Z
SUMMARY:INSEKTEN oder der Tanz zwischen Himmel & Erde
DESCRIPTION:Die Company öff öff präsentiert im Rahmen des Festival der Natur  "INSEKTEN oder der Tanz zwischen Himmel & Erde", ein poetischer Kulturausflug in luftige Höhen. \n\nhttps://eventfrog.de/de/p/theater-buehne/tanz/insekten-oder-der-tanz-zwischen-himmel-erde-7439978226384899911.html
LOCATION:Gundeldinger Feld Hof 3
GEO:47.541476;7.592993
URL:https://eventfrog.de/de/p/theater-buehne/tanz/insekten-oder-der-tanz-zwischen-himmel-erde-7439978226384899911.html
END:VEVENT
END:VCALENDAR