BEGIN:VCALENDAR
VERSION:2.0
PRODID:EVENTFROG//EVENT//ICAL
BEGIN:VEVENT
UID:20260420T155037Z-7439980279207339205@eventfrog.de
DTSTAMP:20260420T155037Z
DTSTART:20260426T120000Z
SUMMARY:TB PAINTBALL  - 26/04/2026
DESCRIPTION:Venez profitez d’une après midi haute en couleur. On vous attend vous, votre bonne humeur et votre rage de vaincre. Tout le matériel est fournit par PaintBall Paradis. \n\nhttps://eventfrog.de/fr/p/sport-fitness/autres-evenements/tb-paintball-26-04-2026-7439980279207339205.html
LOCATION:PaintBall Paradis
GEO:46.173347;6.213531
URL:https://eventfrog.de/fr/p/sport-fitness/autres-evenements/tb-paintball-26-04-2026-7439980279207339205.html
END:VEVENT
END:VCALENDAR