BEGIN:VCALENDAR
VERSION:2.0
PRODID:EVENTFROG//EVENT//ICAL
BEGIN:VEVENT
UID:20260425T175103Z-7440309152637787339@eventfrog.de
DTSTAMP:20260425T175103Z
DTSTART:20260426T080000Z
DTEND:20260426T140000Z
SUMMARY:6. Straßenflohmarkt - 25373 Ellerhoop
DESCRIPTION:Straßenflohmarkt im ganzen Dorf von 10:00 - 16:00 Uhr. Bitte unbedingt die Rettungswege freihalten. Für das leibliche Wohl sorgt unsere Jugendfeuerwehr Ellerhoop\n\nhttps://eventfrog.de/de/p/maerkte/flohmarkt/6-strassenflohmarkt-25373-ellerhoop-7440309152637787339.html
LOCATION:In ganzen Dorf - 25373 Ellerhoop
URL:https://eventfrog.de/de/p/maerkte/flohmarkt/6-strassenflohmarkt-25373-ellerhoop-7440309152637787339.html
END:VEVENT
END:VCALENDAR