BEGIN:VCALENDAR
VERSION:2.0
PRODID:EVENTFROG//EVENT//ICAL
BEGIN:VEVENT
UID:20260426T001747Z-7440314041778634213@eventfrog.de
DTSTAMP:20260426T001747Z
DTSTART:20260429T190000Z
SUMMARY:Tanz in den Mai
DESCRIPTION:Tanz in den Mai im storms söben\n\nhttps://eventfrog.de/de/p/partys/disco/tanz-in-den-mai-7440314041778634213.html
LOCATION:storms söben
GEO:53.558174;8.584099
URL:https://eventfrog.de/de/p/partys/disco/tanz-in-den-mai-7440314041778634213.html
END:VEVENT
END:VCALENDAR