BEGIN:VCALENDAR
VERSION:2.0
PRODID:EVENTFROG//EVENT//ICAL
BEGIN:VEVENT
UID:20260421T151711Z-7440413776396978011@eventfrog.de
DTSTAMP:20260421T151711Z
DTSTART:20260603T160000Z
DTEND:20260603T190000Z
SUMMARY:Julian Thome
DESCRIPTION:Julian Thome tritt am 13. Juni in Mettenheim auf und verbindet Pop/ Rock mit filmischer Bühnenshow und eigenständiger Musik.\n\nhttps://eventfrog.de/de/p/konzerte/pop-rock/julian-thome-7440413776396978011.html
LOCATION:Grape Garden
GEO:49.734553;8.323998
URL:https://eventfrog.de/de/p/konzerte/pop-rock/julian-thome-7440413776396978011.html
END:VEVENT
END:VCALENDAR