BEGIN:VCALENDAR
VERSION:2.0
PRODID:EVENTFROG//EVENT//ICAL
BEGIN:VEVENT
UID:20260424T184322Z-7440423481483781673@eventfrog.de
DTSTAMP:20260424T184322Z
DTSTART:20260925T073000Z
DTEND:20260925T150000Z
SUMMARY:think17 - Das Lernevent der Peer School
DESCRIPTION:Der think17: Treffpunkt für Nachhaltigkeitsexperten, mit Impulsvorträgen, Diskussionen und Kooperationen zu den UN-Nachhaltigkeitszielen. Am 25. September in Frankfurt am Main. www.think17.org\n\nhttps://eventfrog.de/de/p/kurse-seminare/berufliche-bildung/think17-das-lernevent-der-peer-school-7440423481483781673.html
LOCATION:Massif Central, Bethmannstraße 7, 60311 Frankfurt am Main
GEO:50.110418;8.678902
URL:https://eventfrog.de/de/p/kurse-seminare/berufliche-bildung/think17-das-lernevent-der-peer-school-7440423481483781673.html
END:VEVENT
END:VCALENDAR