BEGIN:VCALENDAR
VERSION:2.0
PRODID:EVENTFROG//EVENT//ICAL
BEGIN:VEVENT
UID:20260421T151709Z-7440511555408507490@eventfrog.de
DTSTAMP:20260421T151709Z
DTSTART:20260430T170000Z
DTEND:20260430T200000Z
SUMMARY:Julian Thome
DESCRIPTION:Julian Thome verbindet Pop und Rock zu filmischen Live-Erlebnissen und tritt am 30. April in Worms auf.\n\nhttps://eventfrog.de/de/p/konzerte/pop-rock/julian-thome-7440511555408507490.html
LOCATION:Zum Haltepunkt
GEO:49.402185;8.537876
URL:https://eventfrog.de/de/p/konzerte/pop-rock/julian-thome-7440511555408507490.html
END:VEVENT
END:VCALENDAR