BEGIN:VCALENDAR
VERSION:2.0
PRODID:EVENTFROG//EVENT//ICAL
BEGIN:VEVENT
UID:20260421T180440Z-7441388196183688493@eventfrog.de
DTSTAMP:20260421T180440Z
DTSTART:20260527T134500Z
DTEND:20260527T141500Z
SUMMARY:Aktives Alter(n) mit Sehverlust
DESCRIPTION:Vortrag zeigt, wie ältere Menschen mit Sehbehinderung durch Perspektivwechsel ihr Leben bereichern und Empowerment erfahren können.\n\nhttps://eventfrog.de/de/p/fuehrungen-vortraege/vortrag/aktives-alter-n-mit-sehverlust-7441388196183688493.html
LOCATION:Hybrid - Online oder Kap Europa, Frankfurt a.M.
URL:https://eventfrog.de/de/p/fuehrungen-vortraege/vortrag/aktives-alter-n-mit-sehverlust-7441388196183688493.html
END:VEVENT
END:VCALENDAR