BEGIN:VCALENDAR
VERSION:2.0
PRODID:EVENTFROG//EVENT//ICAL
BEGIN:VEVENT
UID:20260421T180336Z-7441390322293171876@eventfrog.de
DTSTAMP:20260421T180336Z
DTSTART:20260527T141500Z
DTEND:20260527T144500Z
SUMMARY:KI im Alltag und Beruf: Chancen & Herausforderungen
DESCRIPTION:Vortrag zeigt Chancen und Herausforderungen bei der Nutzung von KI durch blinde Menschen in Beruf und Alltag.\n\nhttps://eventfrog.de/de/p/fuehrungen-vortraege/vortrag/ki-im-alltag-und-beruf-chancen-herausforderungen-7441390322293171876.html
LOCATION:Hybrid - Online oder Kap Europa, Frankfurt a.M.
URL:https://eventfrog.de/de/p/fuehrungen-vortraege/vortrag/ki-im-alltag-und-beruf-chancen-herausforderungen-7441390322293171876.html
END:VEVENT
END:VCALENDAR