BEGIN:VCALENDAR
VERSION:2.0
PRODID:EVENTFROG//EVENT//ICAL
BEGIN:VEVENT
UID:20260421T180336Z-7441396607231262282@eventfrog.de
DTSTAMP:20260421T180336Z
DTSTART:20260528T080000Z
DTEND:20260528T084500Z
SUMMARY:Patientensymposium: Glaukom
DESCRIPTION:Dr. med. Raoul Verma informiert in einem Vortrag umfassend über Symptome, Diagnose und Therapien des Glaukoms.\n\nhttps://eventfrog.de/de/p/fuehrungen-vortraege/vortrag/patientensymposium-glaukom-7441396607231262282.html
LOCATION:Hybrid - Online oder Kap Europa, Frankfurt a.M.
URL:https://eventfrog.de/de/p/fuehrungen-vortraege/vortrag/patientensymposium-glaukom-7441396607231262282.html
END:VEVENT
END:VCALENDAR