BEGIN:VCALENDAR
VERSION:2.0
PRODID:EVENTFROG//EVENT//ICAL
BEGIN:VEVENT
UID:20260421T191651Z-7441403980188521453@eventfrog.de
DTSTAMP:20260421T191651Z
DTSTART:20261106T180000Z
DTEND:20261106T220000Z
SUMMARY:Das perfekte Schlager Dinner Bexbach – Live Show & Musik
DESCRIPTION:Das perfekte Schlager Dinner in Bexbach: Interaktive Dinnershow mit Live-Musik, den größten Schlagerhits und Mehrgangmenü. Mitsingen, mitfeiern und genießen!\n\nhttps://eventfrog.de/de/p/konzerte/pop-rock/das-perfekte-schlager-dinner-bexbach-live-show-musik-7441403980188521453.html
LOCATION:Hotel Haus Krone
GEO:49.348831;7.260511
URL:https://eventfrog.de/de/p/konzerte/pop-rock/das-perfekte-schlager-dinner-bexbach-live-show-musik-7441403980188521453.html
END:VEVENT
END:VCALENDAR