BEGIN:VCALENDAR
VERSION:2.0
PRODID:EVENTFROG//EVENT//ICAL
BEGIN:VEVENT
UID:20260421T191502Z-7441409072027421222@eventfrog.de
DTSTAMP:20260421T191502Z
DTSTART:20261122T170000Z
DTEND:20261122T210000Z
SUMMARY:Das perfekte Schlager Dinner Strausberg – Live Show & Musik
DESCRIPTION:Das perfekte Schlager Dinner in Strausberg: Interaktive Dinnershow mit Live-Musik, den größten Schlagerhits und Mehrgangmenü. Mitsingen, mitfeiern und genießen!\n\nhttps://eventfrog.de/de/p/konzerte/schlager-volksmusik/das-perfekte-schlager-dinner-strausberg-live-show-musik-7441409072027421222.html
LOCATION:The Lakeside - Burghotel zu Strausberg
GEO:52.595621;13.892276
URL:https://eventfrog.de/de/p/konzerte/schlager-volksmusik/das-perfekte-schlager-dinner-strausberg-live-show-musik-7441409072027421222.html
END:VEVENT
END:VCALENDAR