BEGIN:VCALENDAR
VERSION:2.0
PRODID:EVENTFROG//EVENT//ICAL
BEGIN:VEVENT
UID:20260421T180250Z-7441409168630635162@eventfrog.de
DTSTAMP:20260421T180250Z
DTSTART:20260528T104500Z
DTEND:20260528T111500Z
SUMMARY:Woche mit allen Sinnen: Multisensorisches System
DESCRIPTION:Vikram Choudhary präsentiert ein multisensorisches System, das taubblinden Schülern hilft, den Wochenablauf selbstständig zu erfassen.\n\nhttps://eventfrog.de/de/p/fuehrungen-vortraege/vortrag/woche-mit-allen-sinnen-multisensorisches-system-7441409168630635162.html
LOCATION:Hybrid - Online oder Kap Europa, Frankfurt a.M.
URL:https://eventfrog.de/de/p/fuehrungen-vortraege/vortrag/woche-mit-allen-sinnen-multisensorisches-system-7441409168630635162.html
END:VEVENT
END:VCALENDAR