BEGIN:VCALENDAR
VERSION:2.0
PRODID:EVENTFROG//EVENT//ICAL
BEGIN:VEVENT
UID:20260421T205211Z-7441430293276326138@eventfrog.de
DTSTAMP:20260421T205211Z
DTSTART:20261204T180000Z
DTEND:20261204T220000Z
SUMMARY:Das perfekte ABBA Dinner Gedern – Live Show & Musik
DESCRIPTION:Das perfekte ABBA Dinner in Gedern: Interaktive Dinnershow mit Live-Musik, den größten ABBA-Hits und Mehrgangmenü. Mitsingen, mitfeiern und genießen!\n\nhttps://eventfrog.de/de/p/konzerte/pop-rock/das-perfekte-abba-dinner-gedern-live-show-musik-7441430293276326138.html
LOCATION:Schloss Gedern
GEO:50.425009;9.200301
URL:https://eventfrog.de/de/p/konzerte/pop-rock/das-perfekte-abba-dinner-gedern-live-show-musik-7441430293276326138.html
END:VEVENT
END:VCALENDAR