BEGIN:VCALENDAR
VERSION:2.0
PRODID:EVENTFROG//EVENT//ICAL
BEGIN:VEVENT
UID:20260421T204936Z-7441455746833711122@eventfrog.de
DTSTAMP:20260421T204936Z
DTSTART:20270422T170000Z
DTEND:20270422T210000Z
SUMMARY:Das perfekte ABBA Dinner Edesheim – Live Show & Musik
DESCRIPTION:Das perfekte ABBA Dinner in Edesheim: Interaktive Dinnershow mit Live-Musik, den größten ABBA-Hits und Mehrgangmenü. Mitsingen, mitfeiern und genießen!\n\nhttps://eventfrog.de/de/p/konzerte/pop-rock/das-perfekte-abba-dinner-edesheim-live-show-musik-7441455746833711122.html
LOCATION:Hotel Schloss Edesheim
GEO:49.262688;8.132521
URL:https://eventfrog.de/de/p/konzerte/pop-rock/das-perfekte-abba-dinner-edesheim-live-show-musik-7441455746833711122.html
END:VEVENT
END:VCALENDAR