BEGIN:VCALENDAR
VERSION:2.0
PRODID:EVENTFROG//EVENT//ICAL
BEGIN:VEVENT
UID:20260421T204859Z-7441456480321049705@eventfrog.de
DTSTAMP:20260421T204859Z
DTSTART:20270521T170000Z
DTEND:20270521T210000Z
SUMMARY:Das perfekte ABBA Dinner Achern – Live Show & Musik
DESCRIPTION:Das perfekte ABBA Dinner in Achern: Interaktive Dinnershow mit Live-Musik, den größten ABBA-Hits und Mehrgangmenü. Mitsingen, mitfeiern und genießen!\n\nhttps://eventfrog.de/de/p/konzerte/pop-rock/das-perfekte-abba-dinner-achern-live-show-musik-7441456480321049705.html
LOCATION:SCHECK-IN Kochfabrik
GEO:48.627659;8.054717
URL:https://eventfrog.de/de/p/konzerte/pop-rock/das-perfekte-abba-dinner-achern-live-show-musik-7441456480321049705.html
END:VEVENT
END:VCALENDAR