BEGIN:VCALENDAR
VERSION:2.0
PRODID:EVENTFROG//EVENT//ICAL
BEGIN:VEVENT
UID:20260419T224515Z-7441545946868018013@eventfrog.de
DTSTAMP:20260419T224515Z
DTSTART:20260530T160000Z
DTEND:20260530T220000Z
SUMMARY:Estawo- Dinner mit Shows u.v.m.
DESCRIPTION:Dinner mit Shows, Storytelling und Social Dance\n\nhttps://eventfrog.de/de/p/essen-trinken/estawo-dinner-mit-shows-u-v-m-7441545946868018013.html
LOCATION:La Pantera
GEO:47.363113;8.513746
URL:https://eventfrog.de/de/p/essen-trinken/estawo-dinner-mit-shows-u-v-m-7441545946868018013.html
END:VEVENT
END:VCALENDAR