BEGIN:VCALENDAR
VERSION:2.0
PRODID:EVENTFROG//EVENT//ICAL
BEGIN:VEVENT
UID:20260419T224516Z-7441546356630496488@eventfrog.de
DTSTAMP:20260419T224516Z
DTSTART:20261107T170000Z
DTEND:20261107T230000Z
SUMMARY:Estawo- Dinner mit Shows u.v.m.
DESCRIPTION:Dinner mit Shows, Storytelling und Social Dance\n\nhttps://eventfrog.de/de/p/essen-trinken/estawo-dinner-mit-shows-u-v-m-7441546356630496488.html
LOCATION:La Pantera
GEO:47.363113;8.513746
URL:https://eventfrog.de/de/p/essen-trinken/estawo-dinner-mit-shows-u-v-m-7441546356630496488.html
END:VEVENT
END:VCALENDAR