BEGIN:VCALENDAR
VERSION:2.0
PRODID:EVENTFROG//EVENT//ICAL
BEGIN:VEVENT
UID:20260421T180241Z-7441559351683207669@eventfrog.de
DTSTAMP:20260421T180241Z
DTSTART:20260528T124500Z
DTEND:20260528T131500Z
SUMMARY:CVI - augenärztlich und orthoptisch abklären
DESCRIPTION:Der Vortrag erläutert augenärztliche und orthoptische Abklärung visueller Wahrnehmungsstörungen (CVI) für Laien und Fachpersonal.\n\nhttps://eventfrog.de/de/p/fuehrungen-vortraege/vortrag/cvi-augenaerztlich-und-orthoptisch-abklaeren-7441559351683207669.html
LOCATION:Hybrid - Online oder Kap Europa, Frankfurt a.M.
URL:https://eventfrog.de/de/p/fuehrungen-vortraege/vortrag/cvi-augenaerztlich-und-orthoptisch-abklaeren-7441559351683207669.html
END:VEVENT
END:VCALENDAR