BEGIN:VCALENDAR
VERSION:2.0
PRODID:EVENTFROG//EVENT//ICAL
BEGIN:VEVENT
UID:20260424T233742Z-7441784005987462925@eventfrog.de
DTSTAMP:20260424T233742Z
DTSTART:20260919T180000Z
DTEND:20260919T200000Z
SUMMARY:Barbara Hutzenlaub - Sprechstunde
DESCRIPTION:Das Gesundheitswesen kränkelt. Ich kann helfen!\n\n\nhttps://eventfrog.de/de/p/theater-buehne/comedy-kabarett/barbara-hutzenlaub-sprechstunde-7441784005987462925.html
LOCATION:Theater Fauteuil - Tabourettli
GEO:47.557349;7.586407
URL:https://eventfrog.de/de/p/theater-buehne/comedy-kabarett/barbara-hutzenlaub-sprechstunde-7441784005987462925.html
END:VEVENT
END:VCALENDAR