BEGIN:VCALENDAR
VERSION:2.0
PRODID:EVENTFROG//EVENT//ICAL
BEGIN:VEVENT
UID:20260421T082859Z-7442155017467906548@eventfrog.de
DTSTAMP:20260421T082859Z
DTSTART:20260423T180000Z
SUMMARY:Rheine-Premiere: William Wahl "wahlweise" (Klavierkabarett)
DESCRIPTION:Das brandneue Live-Programm "wahlweise" spielt der preisgekrönte Klavierkabarettist am 23. April erstmalig in Rheine (Stadthalle  Rheine-Premiere). \n\nhttps://eventfrog.de/de/p/theater-buehne/comedy-kabarett/rheine-premiere-william-wahl-wahlweise-klavierkabarett-7442155017467906548.html
LOCATION:Stadthalle Rheine
GEO:52.280815;7.440750
URL:https://eventfrog.de/de/p/theater-buehne/comedy-kabarett/rheine-premiere-william-wahl-wahlweise-klavierkabarett-7442155017467906548.html
END:VEVENT
END:VCALENDAR