BEGIN:VCALENDAR
VERSION:2.0
PRODID:EVENTFROG//EVENT//ICAL
BEGIN:VEVENT
UID:20260424T123405Z-7442532699087103724@eventfrog.de
DTSTAMP:20260424T123405Z
DTSTART:20260503T130000Z
DTEND:20260503T143000Z
SUMMARY:Hey, Alter! Ruhestand im Selbstversuch
DESCRIPTION:Lesung\n\nhttps://eventfrog.de/de/p/theater-buehne/lesung/hey-alter-ruhestand-im-selbstversuch-7442532699087103724.html
LOCATION:KulturPost des Vereins Leben in Wilhelmsruh e.V.
GEO:52.587091;13.367665
URL:https://eventfrog.de/de/p/theater-buehne/lesung/hey-alter-ruhestand-im-selbstversuch-7442532699087103724.html
END:VEVENT
END:VCALENDAR