BEGIN:VCALENDAR
VERSION:2.0
PRODID:EVENTFROG//EVENT//ICAL
BEGIN:VEVENT
UID:20260425T002241Z-7442706480715831384@eventfrog.de
DTSTAMP:20260425T002241Z
DTSTART:20260424T190000Z
DTEND:20260425T020000Z
SUMMARY:Experience
DESCRIPTION:Experience\n\nhttps://eventfrog.de/de/p/konzerte/experience-7442706480715831384.html
LOCATION:Heaven Music Club
GEO:47.453395;8.937458
URL:https://eventfrog.de/de/p/konzerte/experience-7442706480715831384.html
END:VEVENT
END:VCALENDAR