BEGIN:VCALENDAR
VERSION:2.0
PRODID:EVENTFROG//EVENT//ICAL
BEGIN:VEVENT
UID:20260421T055021Z-7443214188527267444@eventfrog.de
DTSTAMP:20260421T055021Z
DTSTART:20260424T180000Z
DTEND:20260424T210000Z
SUMMARY:Handball Stadtderby - HSG 1848 vs. VfR/Eintr. Wiesbaden
DESCRIPTION:Das Oberliga-Derby HSG Dotzheim/Schierstein 1848 – HSG VfR/Eintracht Wiesbaden findet am 24.04.2026 um 20 Uhr in der heimischen Arena statt.\n\nhttps://eventfrog.de/de/p/sport-fitness/handball/handball-stadtderby-hsg-1848-vs-vfr-eintr-wiesbaden-7443214188527267444.html
LOCATION:Sporthalle Schelmengraben Dotzheim
GEO:50.069451;8.193885
URL:https://eventfrog.de/de/p/sport-fitness/handball/handball-stadtderby-hsg-1848-vs-vfr-eintr-wiesbaden-7443214188527267444.html
END:VEVENT
END:VCALENDAR