BEGIN:VCALENDAR
VERSION:2.0
PRODID:EVENTFROG//EVENT//ICAL
BEGIN:VEVENT
UID:20260424T065546Z-7443287121396276612@eventfrog.de
DTSTAMP:20260424T065546Z
DTSTART:20260606T170000Z
SUMMARY:A. Meier-Feier: Konzert ChueLee
DESCRIPTION:Grosses Sommernachtsfest ab 19.00 Uhr mit einem Konzert von ChueLee\n\nhttps://eventfrog.de/de/p/konzerte/schlager-volksmusik/a-meier-feier-konzert-chuelee-7443287121396276612.html
LOCATION:Gewerbepark Neumatte
GEO:47.320321;8.048319
URL:https://eventfrog.de/de/p/konzerte/schlager-volksmusik/a-meier-feier-konzert-chuelee-7443287121396276612.html
END:VEVENT
END:VCALENDAR