BEGIN:VCALENDAR
VERSION:2.0
PRODID:EVENTFROG//EVENT//ICAL
BEGIN:VEVENT
UID:20260424T093129Z-7443954290249476538@eventfrog.de
DTSTAMP:20260424T093129Z
DTSTART:20260606T150000Z
DTEND:20260606T163000Z
SUMMARY:Northern Lights - Wettinger Singkreis
DESCRIPTION:Der Wettinger Singkreis entführt Sie in die klangvollen und atmosphärischen Werke der nordischen Komponisten Ola Gjeilo und Mårten Jansson.\n\nhttps://eventfrog.de/de/p/konzerte/chor/northern-lights-wettinger-singkreis-7443954290249476538.html
LOCATION:Reformierte Kirche, Baden
GEO:47.476430;8.309250
URL:https://eventfrog.de/de/p/konzerte/chor/northern-lights-wettinger-singkreis-7443954290249476538.html
END:VEVENT
END:VCALENDAR