BEGIN:VCALENDAR
VERSION:2.0
PRODID:EVENTFROG//EVENT//ICAL
BEGIN:VEVENT
UID:20260426T035150Z-7444155603478426129@eventfrog.de
DTSTAMP:20260426T035150Z
DTSTART:20260512T181500Z
SUMMARY:La beauté de l’âne / Regiegespräch mit Dea Gjinovci
DESCRIPTION:La beauté de l'âne / Regiegespräch mit Dea Gjinovci\n\nhttps://eventfrog.de/de/p/freizeit-ausfluege/la-beaute-de-lane-regiegesprach-mit-dea-gjinovci-7444155603478426129.html
LOCATION:Kino Cameo
GEO:47.494450;8.718060
URL:https://eventfrog.de/de/p/freizeit-ausfluege/la-beaute-de-lane-regiegesprach-mit-dea-gjinovci-7444155603478426129.html
END:VEVENT
END:VCALENDAR