BEGIN:VCALENDAR
VERSION:2.0
PRODID:EVENTFROG//EVENT//ICAL
BEGIN:VEVENT
UID:20260423T004323Z-7444309959947329763@eventfrog.de
DTSTAMP:20260423T004323Z
DTSTART:20260424T140000Z
DTEND:20260424T180000Z
SUMMARY:Workshop "Brot und Kraut"
DESCRIPTION:Erlebe Brot- oder Kraut-Workshop mit Wildpflanzenmenü, Backwerk und Kostproben. Freitag oder Samstag, max. 20 Teilnehmer.\n\nhttps://eventfrog.de/de/p/kurse-seminare/sonstige-kurse-seminare/workshop-brot-und-kraut-7444309959947329763.html
LOCATION:Buchaer Landbackverein
GEO:50.878742;11.510356
URL:https://eventfrog.de/de/p/kurse-seminare/sonstige-kurse-seminare/workshop-brot-und-kraut-7444309959947329763.html
END:VEVENT
END:VCALENDAR