BEGIN:VCALENDAR
VERSION:2.0
PRODID:EVENTFROG//EVENT//ICAL
BEGIN:VEVENT
UID:20260419T164957Z-7444321880717180180@eventfrog.de
DTSTAMP:20260419T164957Z
DTSTART:20260422T173000Z
DTEND:20260422T200000Z
SUMMARY:Podiumsdiskussion mit Regierungsratskandidat: innen
DESCRIPTION:Am 22. April diskutieren Regierungsratskandidat:innen über die Zukunft der Behindertenpolitik in Graubünden.\n\nhttps://eventfrog.de/de/p/politik-gemeinde/politik/podiumsdiskussion-mit-regierungsratskandidat-innen-7444321880717180180.html
LOCATION:Calvensaal Chur (via Calvenweg)
GEO:46.853487;9.533148
URL:https://eventfrog.de/de/p/politik-gemeinde/politik/podiumsdiskussion-mit-regierungsratskandidat-innen-7444321880717180180.html
END:VEVENT
END:VCALENDAR