BEGIN:VCALENDAR
VERSION:2.0
PRODID:EVENTFROG//EVENT//ICAL
BEGIN:VEVENT
UID:20260424T002606Z-7444342668438567514@eventfrog.de
DTSTAMP:20260424T002606Z
DTSTART:20260425T160000Z
SUMMARY:Wein - Gin - Brot Zuzenhausen
DESCRIPTION:Probiert Euch durch ausgewählte Weine vom Weingut Schweder & angesagte Gins von Grüngefühl\n\nhttps://eventfrog.de/de/p/essen-trinken/wein-gin-brot-zuzenhausen-7444342668438567514.html
LOCATION:Mühle Kolb
GEO:49.293321;8.827677
URL:https://eventfrog.de/de/p/essen-trinken/wein-gin-brot-zuzenhausen-7444342668438567514.html
END:VEVENT
END:VCALENDAR