BEGIN:VCALENDAR
VERSION:2.0
PRODID:EVENTFROG//EVENT//ICAL
BEGIN:VEVENT
UID:20260419T125908Z-7444414030410697903@eventfrog.de
DTSTAMP:20260419T125908Z
DTSTART:20260704T120000Z
DTEND:20260704T215900Z
SUMMARY:Beate Goes Grünten
DESCRIPTION:Das Festival für alle bietet Musik von Werkstatt Musik, Keine Kleine, 2Yube und The Louhaus Band am Fuße des Grünten.\n\nhttps://eventfrog.de/de/p/festivals/weitere-festivals/beate-goes-gruenten-7444414030410697903.html
LOCATION:Kurpark am Rathaus
GEO:47.574221;10.292632
URL:https://eventfrog.de/de/p/festivals/weitere-festivals/beate-goes-gruenten-7444414030410697903.html
END:VEVENT
END:VCALENDAR