BEGIN:VCALENDAR
VERSION:2.0
PRODID:EVENTFROG//EVENT//ICAL
BEGIN:VEVENT
UID:20260424T074710Z-7444614033070632077@eventfrog.de
DTSTAMP:20260424T074710Z
DTSTART:20261127T191500Z
DTEND:20261127T213000Z
SUMMARY:Irish Night Basel
DESCRIPTION:Irish Night Basel\n\nhttps://eventfrog.de/de/p/konzerte/folk/irish-night-basel-7444614033070632077.html
LOCATION:Parterre One Music
GEO:47.563800;7.591130
URL:https://eventfrog.de/de/p/konzerte/folk/irish-night-basel-7444614033070632077.html
END:VEVENT
END:VCALENDAR