BEGIN:VCALENDAR
VERSION:2.0
PRODID:EVENTFROG//EVENT//ICAL
BEGIN:VEVENT
UID:20260422T115142Z-7444740521333939442@eventfrog.de
DTSTAMP:20260422T115142Z
DTSTART:20260623T173000Z
DTEND:20260623T193000Z
SUMMARY:Battle of the Big Bands: Uni Bigband Berlin vs. LMU
DESCRIPTION:Die TUM Jazzband München und Uni Bigband Berlin liefern sich ein Bigband-Battle, moderiert von Cielo Faccio.\n\nhttps://eventfrog.de/de/p/konzerte/weitere-musikrichtungen/battle-of-the-big-bands-uni-bigband-berlin-vs-lmu-7444740521333939442.html
LOCATION:Luftschloss Tempelhofer Feld
GEO:52.476672;13.386209
URL:https://eventfrog.de/de/p/konzerte/weitere-musikrichtungen/battle-of-the-big-bands-uni-bigband-berlin-vs-lmu-7444740521333939442.html
END:VEVENT
END:VCALENDAR