BEGIN:VCALENDAR
VERSION:2.0
PRODID:EVENTFROG//EVENT//ICAL
BEGIN:VEVENT
UID:20260422T115224Z-7444744471646861096@eventfrog.de
DTSTAMP:20260422T115224Z
DTSTART:20260820T140000Z
DTEND:20260820T190000Z
SUMMARY:30. Todestag Rio Reiser: Public Talk + Konzert
DESCRIPTION:Public Talk und Konzert mit Kai & Funky und Birte Volta zeigen den fortdauernden Einfluss von Rio Reiser und Ton Steine Scherben.\n\nhttps://eventfrog.de/de/p/konzerte/weitere-musikrichtungen/30-todestag-rio-reiser-public-talk-konzert-7444744471646861096.html
LOCATION:Luftschloss Tempelhofer Feld
GEO:52.476672;13.386209
URL:https://eventfrog.de/de/p/konzerte/weitere-musikrichtungen/30-todestag-rio-reiser-public-talk-konzert-7444744471646861096.html
END:VEVENT
END:VCALENDAR