BEGIN:VCALENDAR
VERSION:2.0
PRODID:EVENTFROG//EVENT//ICAL
BEGIN:VEVENT
UID:20260422T205506Z-7445887747003278019@eventfrog.de
DTSTAMP:20260422T205506Z
DTSTART:20260522T170000Z
DTEND:20260522T190000Z
SUMMARY:Faust Forward
DESCRIPTION:Das berühmte Drama um Faust, der seine Seele an Mephisto verwettet, um mehr Leben und Liebe zu erfahren. Freuen Sie sich auf Goethes bekanntestes Werk in zeitgenössischer Sprache und Spielfilmlänge.\n\nhttps://eventfrog.de/de/p/theater-buehne/theater/faust-forward-7445887747003278019.html
LOCATION:Mannheimer Abendakademie
GEO:49.492328;8.471048
URL:https://eventfrog.de/de/p/theater-buehne/theater/faust-forward-7445887747003278019.html
END:VEVENT
END:VCALENDAR